{
 "currentVersion": 10.71,
 "cimVersion": "2.4.0",
 "serviceDescription": "",
 "mapName": "UTM 10N",
 "description": "",
 "copyrightText": "",
 "supportsDynamicLayers": false,
 "layers": [
  {
   "id": 0,
   "name": "EOC_Sumas_20211117",
   "parentLayerId": -1,
   "defaultVisibility": true,
   "subLayerIds": null,
   "minScale": 0,
   "maxScale": 0,
   "type": "Raster Layer",
   "supportsDynamicLegends": false
  }
 ],
 "tables": [],
 "spatialReference": {
  "wkid": 26910,
  "latestWkid": 26910,
  "xyTolerance": 0.001,
  "zTolerance": 0.001,
  "mTolerance": 0.001,
  "falseX": -5120900,
  "falseY": -9998100,
  "xyUnits": 4.504455473910538E8,
  "falseZ": -100000,
  "zUnits": 10000,
  "falseM": -100000,
  "mUnits": 10000
 },
 "singleFusedMapCache": true,
 "tileInfo": {
  "rows": 256,
  "cols": 256,
  "dpi": 96,
  "format": "MIXED",
  "compressionQuality": 90,
  "origin": {
   "x": -5120900,
   "y": 9998100
  },
  "spatialReference": {
   "wkid": 26910,
   "latestWkid": 26910,
   "xyTolerance": 0.001,
   "zTolerance": 0.001,
   "mTolerance": 0.001,
   "falseX": -5120900,
   "falseY": -9998100,
   "xyUnits": 4.50445547391E8,
   "falseZ": -100000,
   "zUnits": 10000,
   "falseM": -100000,
   "mUnits": 10000
  },
  "lods": [
   {
    "level": 0,
    "resolution": 67.73346880027094,
    "scale": 256000
   },
   {
    "level": 1,
    "resolution": 33.86673440013547,
    "scale": 128000
   },
   {
    "level": 2,
    "resolution": 16.933367200067735,
    "scale": 64000
   },
   {
    "level": 3,
    "resolution": 8.466683600033868,
    "scale": 32000
   },
   {
    "level": 4,
    "resolution": 4.233341800016934,
    "scale": 16000
   },
   {
    "level": 5,
    "resolution": 2.116670900008467,
    "scale": 8000
   },
   {
    "level": 6,
    "resolution": 1.0583354500042335,
    "scale": 4000
   },
   {
    "level": 7,
    "resolution": 0.5291677250021167,
    "scale": 2000
   },
   {
    "level": 8,
    "resolution": 0.26458386250105836,
    "scale": 1000
   },
   {
    "level": 9,
    "resolution": 0.13229193125052918,
    "scale": 500
   },
   {
    "level": 10,
    "resolution": 0.06614596562526459,
    "scale": 250
   }
  ]
 },
 "initialExtent": {
  "xmin": 550388.8978604692,
  "ymin": 5425378.6869105445,
  "xmax": 571655.016075188,
  "ymax": 5442330.236910547,
  "spatialReference": {
   "wkid": 26910,
   "latestWkid": 26910,
   "xyTolerance": 0.001,
   "zTolerance": 0.001,
   "mTolerance": 0.001,
   "falseX": -5120900,
   "falseY": -9998100,
   "xyUnits": 4.504455473910538E8,
   "falseZ": -100000,
   "zUnits": 10000,
   "falseM": -100000,
   "mUnits": 10000
  }
 },
 "fullExtent": {
  "xmin": 551999.9999999993,
  "ymin": 5427000,
  "xmax": 570000.0000000008,
  "ymax": 5443000,
  "spatialReference": {
   "wkid": 26910,
   "latestWkid": 26910,
   "xyTolerance": 0.001,
   "zTolerance": 0.001,
   "mTolerance": 0.001,
   "falseX": -5120900,
   "falseY": -9998100,
   "xyUnits": 4.504455473910538E8,
   "falseZ": -100000,
   "zUnits": 10000,
   "falseM": -100000,
   "mUnits": 10000
  }
 },
 "units": "esriMeters",
 "supportedImageFormatTypes": "PNG32,PNG24,PNG,JPG,DIB,TIFF,EMF,PS,PDF,GIF,SVG,SVGZ,BMP",
 "documentInfo": {
  "Title": "Map",
  "Author": "",
  "Comments": "",
  "Subject": "",
  "Category": "",
  "AntialiasingMode": "Fast",
  "TextAntialiasingMode": "Force",
  "Keywords": ""
 },
 "supportedQueryFormats": "JSON, geoJSON, PBF",
 "datumTransformations": [
  {
   "geoTransforms": [
    {
     "wkid": 1946,
     "latestWkid": 1946,
     "transformForward": true,
     "name": "NAD_1983_CSRS_To_WGS_1984_2"
    },
    {
     "wkid": 108190,
     "latestWkid": 108190,
     "transformForward": true,
     "name": "WGS_1984_(ITRF00)_To_NAD_1983"
    }
   ]
  },
  {
   "geoTransforms": [
    {
     "wkid": 108190,
     "latestWkid": 108190,
     "transformForward": false,
     "name": "WGS_1984_(ITRF00)_To_NAD_1983"
    },
    {
     "wkid": 1946,
     "latestWkid": 1946,
     "transformForward": false,
     "name": "NAD_1983_CSRS_To_WGS_1984_2"
    }
   ]
  }
 ],
 "supportsDatumTransformation": true,
 "archivingInfo": {
  "supportsHistoricMoment": false
 },
 "maxRecordCount": 1000,
 "maxImageHeight": 4096,
 "maxImageWidth": 4096,
 "minScale": 256000.0,
 "maxScale": 250.0,
 "exportTilesAllowed": false,
 "maxExportTilesCount": 100000,
 "capabilities": "TilesOnly,Tilemap",
 "supportedExtensions": ""
}
